BEGIN:VCALENDAR
VERSION:2.0
PRODID:-//AIN&#039;PULSION COTIERE BMX - ECPv6.15.11//NONSGML v1.0//EN
CALSCALE:GREGORIAN
METHOD:PUBLISH
X-WR-CALNAME:AIN&#039;PULSION COTIERE BMX
X-ORIGINAL-URL:https://beynostbmxcotiere.fr
X-WR-CALDESC:Évènements pour AIN&#039;PULSION COTIERE BMX
REFRESH-INTERVAL;VALUE=DURATION:PT1H
X-Robots-Tag:noindex
X-PUBLISHED-TTL:PT1H
BEGIN:VTIMEZONE
TZID:Europe/Paris
BEGIN:DAYLIGHT
TZOFFSETFROM:+0100
TZOFFSETTO:+0200
TZNAME:CEST
DTSTART:20230326T010000
END:DAYLIGHT
BEGIN:STANDARD
TZOFFSETFROM:+0200
TZOFFSETTO:+0100
TZNAME:CET
DTSTART:20231029T010000
END:STANDARD
BEGIN:DAYLIGHT
TZOFFSETFROM:+0100
TZOFFSETTO:+0200
TZNAME:CEST
DTSTART:20240331T010000
END:DAYLIGHT
BEGIN:STANDARD
TZOFFSETFROM:+0200
TZOFFSETTO:+0100
TZNAME:CET
DTSTART:20241027T010000
END:STANDARD
BEGIN:DAYLIGHT
TZOFFSETFROM:+0100
TZOFFSETTO:+0200
TZNAME:CEST
DTSTART:20250330T010000
END:DAYLIGHT
BEGIN:STANDARD
TZOFFSETFROM:+0200
TZOFFSETTO:+0100
TZNAME:CET
DTSTART:20251026T010000
END:STANDARD
END:VTIMEZONE
BEGIN:VEVENT
DTSTART;TZID=Europe/Paris:20240705T180000
DTEND;TZID=Europe/Paris:20240706T010000
DTSTAMP:20260423T040243
CREATED:20240609T200129Z
LAST-MODIFIED:20240609T211505Z
UID:6044-1720202400-1720227600@beynostbmxcotiere.fr
SUMMARY:Concert - Beynost
DESCRIPTION:15 jours après la fête de la Musique\, le BBC a de nouveau la charge d’organiser la buvette pour un évènement musical au Théâtre de Verdure. Vous avez pris vos marques lors de la fête de la Musique ou au contraire vous n’avez pas pu venir ? Dans tous les cas c’est une nouvelle occasion de passer un bon moment en musique alors venez vous joindre à nous. \nVous souhaitez être bénévole pour cet événement\, contactez David GERARD ou un autre membre du CA.
URL:https://beynostbmxcotiere.fr/events/concert-beynost/
LOCATION:Complexe du Mas de Roux\, 40 Rue du Midi\, Beynost\, 01700
CATEGORIES:Evènement extra-sportif
END:VEVENT
BEGIN:VEVENT
DTSTART;VALUE=DATE:20240706
DTEND;VALUE=DATE:20240708
DTSTAMP:20260423T040243
CREATED:20240116T224150Z
LAST-MODIFIED:20240602T131844Z
UID:5628-1720224000-1720396799@beynostbmxcotiere.fr
SUMMARY:Coupe de France #5 & 6 - Mours
DESCRIPTION:La clôture des engagements est fixée au Lundi 24 juin 2024\, 22h. \n			\n				\n				\n				\n				\n				\n			\n				\n				\n				\n				\n				Guide de la course : Guide CdF Mours M5-6_2024
URL:https://beynostbmxcotiere.fr/events/coupe-de-france-7-8-mours/
LOCATION:73800
CATEGORIES:Course
END:VEVENT
BEGIN:VEVENT
DTSTART;VALUE=DATE:20240708
DTEND;VALUE=DATE:20240713
DTSTAMP:20260423T040243
CREATED:20240601T152508Z
LAST-MODIFIED:20240609T200933Z
UID:5973-1720396800-1720828799@beynostbmxcotiere.fr
SUMMARY:BBC SUMMER CAMP 2024
DESCRIPTION:Le club de Beynost BMX la côtière vous propose un stage BMX  » SUMMER CAMP 2024″ d’une semaine du 8 au 12 juillet 2024. \nLe tarif de 520€ comprend:– Le transport toute la semaine– L’accès aux pistes et activités– Le maillot spécial évènement– 4 nuits en auberge de jeunesse– Les repas du lundi soir au vendredi midi (1 restaurant inclus)– Le coaching sur les pistes \nAttention\, 16 pilotes max et 10 ans minimum.Obligation d’avoir une licence FFC de BMX en cours de validité \nPour plus d’informations\, contactez Maxence Domenech au 06 51 50 81 77. \nDès réception de votre commande\, vous recevrez le dossier complet à compléter.
URL:https://beynostbmxcotiere.fr/events/bbc-summer-camp-2024/
LOCATION:AUVERGNE
CATEGORIES:Stage
END:VEVENT
BEGIN:VEVENT
DTSTART;TZID=Europe/Paris:20240715T080000
DTEND;TZID=Europe/Paris:20240715T170000
DTSTAMP:20260423T040243
CREATED:20240710T193033Z
LAST-MODIFIED:20240713T182332Z
UID:6110-1721030400-1721062800@beynostbmxcotiere.fr
SUMMARY:Stage d'été : avec Arthur Bretin Monard #1
DESCRIPTION:Première journée de stage avec Arthur Bretin Monard \nPour les participants à une des deux journée\, n’oubliez pas de vous inscrire à la tombola et tentez de remporter : \n1 maillot \n1 plaque \n1 casquette
URL:https://beynostbmxcotiere.fr/events/stage-dete-avec-arthur-bretin-monard-1/
LOCATION:Piste BBC\, Rue de Charolles\, Thil\, 01120
CATEGORIES:Stage
END:VEVENT
BEGIN:VEVENT
DTSTART;VALUE=DATE:20240716
DTEND;VALUE=DATE:20240717
DTSTAMP:20260423T040243
CREATED:20240710T193309Z
LAST-MODIFIED:20240713T184104Z
UID:6114-1721088000-1721174399@beynostbmxcotiere.fr
SUMMARY:Stage d'été : BMX & Trampoline park
DESCRIPTION:Une journée B&T : BMX et Trampoline \nATTENTION : journée limitée en nombre de participant !! \nPossibilité de faire uniquement la matinée de BMX.
URL:https://beynostbmxcotiere.fr/events/stage-dete-bmx-trampoline-park/
LOCATION:Piste BBC\, Rue de Charolles\, Thil\, 01120
CATEGORIES:Stage
END:VEVENT
BEGIN:VEVENT
DTSTART;VALUE=DATE:20240718
DTEND;VALUE=DATE:20240719
DTSTAMP:20260423T040243
CREATED:20240710T193416Z
LAST-MODIFIED:20240713T183622Z
UID:6116-1721260800-1721347199@beynostbmxcotiere.fr
SUMMARY:Stage d'été : Dig & Ride #1
DESCRIPTION:Venez apprendre à construire des bosses puis à rider dessus!!!
URL:https://beynostbmxcotiere.fr/events/stage-dete-dig-ride-1/
LOCATION:Piste BBC\, Rue de Charolles\, Thil\, 01120
CATEGORIES:Stage
END:VEVENT
BEGIN:VEVENT
DTSTART;VALUE=DATE:20240719
DTEND;VALUE=DATE:20240720
DTSTAMP:20260423T040243
CREATED:20240710T193608Z
LAST-MODIFIED:20240713T183834Z
UID:6120-1721347200-1721433599@beynostbmxcotiere.fr
SUMMARY:Stage d'été : Journée BMX
DESCRIPTION:Venez progresser sur une journée complète dédiée au BMX
URL:https://beynostbmxcotiere.fr/events/stage-dete-journee-bmx/
LOCATION:Piste BBC\, Rue de Charolles\, Thil\, 01120
CATEGORIES:Stage
END:VEVENT
BEGIN:VEVENT
DTSTART;VALUE=DATE:20240722
DTEND;VALUE=DATE:20240723
DTSTAMP:20260423T040243
CREATED:20240710T193148Z
LAST-MODIFIED:20240713T182519Z
UID:6112-1721606400-1721692799@beynostbmxcotiere.fr
SUMMARY:Stage d'été : avec Arthur Bretin Monard #2
DESCRIPTION:Deuxième journée de stage avec Arthur Bretin Monard \nPour les participants à une des deux journée\, n’oubliez pas de vous inscrire à la tombola et tentez de remporter : \n1 maillot \n1 plaque \n1 casquette
URL:https://beynostbmxcotiere.fr/events/stage-dete-avec-arthur-bretin-monard-2/
LOCATION:Piste BBC\, Rue de Charolles\, Thil\, 01120
CATEGORIES:Stage
END:VEVENT
BEGIN:VEVENT
DTSTART;VALUE=DATE:20240723
DTEND;VALUE=DATE:20240724
DTSTAMP:20260423T040243
CREATED:20240710T193653Z
LAST-MODIFIED:20240713T184017Z
UID:6122-1721692800-1721779199@beynostbmxcotiere.fr
SUMMARY:Stage d'été : BMX & Bowling
DESCRIPTION:Une journée B&B : BMX et Bowling \nATTENTION : journée limitée en nombre de participant !! \nPossibilité de faire uniquement la matinée de BMX.
URL:https://beynostbmxcotiere.fr/events/stage-dete-bmx-bowling/
LOCATION:Piste BBC\, Rue de Charolles\, Thil\, 01120
CATEGORIES:Stage
END:VEVENT
BEGIN:VEVENT
DTSTART;VALUE=DATE:20240725
DTEND;VALUE=DATE:20240726
DTSTAMP:20260423T040243
CREATED:20240710T193458Z
LAST-MODIFIED:20240722T220916Z
UID:6118-1721865600-1721951999@beynostbmxcotiere.fr
SUMMARY:Stage d'été : Dig & Ride #2
DESCRIPTION:Venez apprendre ou continuer à construire des bosses puis à rider dessus!!!
URL:https://beynostbmxcotiere.fr/events/stage-dete-dig-ride-2/
LOCATION:Piste BBC\, Rue de Charolles\, Thil\, 01120
CATEGORIES:Stage
END:VEVENT
BEGIN:VEVENT
DTSTART;VALUE=DATE:20240726
DTEND;VALUE=DATE:20240727
DTSTAMP:20260423T040243
CREATED:20240710T193754Z
LAST-MODIFIED:20240717T203752Z
UID:6124-1721952000-1722038399@beynostbmxcotiere.fr
SUMMARY:Stage d'été : BMX à Neuville
DESCRIPTION:Venez progresser sur une journée complète dédiée au BMX. \nProfitez en pour découvrir ou travailler vos passages sur la piste de Neuville avant la manche ARLM
URL:https://beynostbmxcotiere.fr/events/stage-dete-bmx-a-neuville/
LOCATION:Piste BMX Neuville S/S\, Chemin de halage\, Neuville S/S\, France
CATEGORIES:Stage
END:VEVENT
END:VCALENDAR