BEGIN:VCALENDAR
VERSION:2.0
PRODID:-//AIN&#039;PULSION COTIERE BMX - ECPv6.15.11//NONSGML v1.0//EN
CALSCALE:GREGORIAN
METHOD:PUBLISH
X-WR-CALNAME:AIN&#039;PULSION COTIERE BMX
X-ORIGINAL-URL:https://beynostbmxcotiere.fr
X-WR-CALDESC:Évènements pour AIN&#039;PULSION COTIERE BMX
REFRESH-INTERVAL;VALUE=DURATION:PT1H
X-Robots-Tag:noindex
X-PUBLISHED-TTL:PT1H
BEGIN:VTIMEZONE
TZID:Europe/Paris
BEGIN:DAYLIGHT
TZOFFSETFROM:+0100
TZOFFSETTO:+0200
TZNAME:CEST
DTSTART:20250330T010000
END:DAYLIGHT
BEGIN:STANDARD
TZOFFSETFROM:+0200
TZOFFSETTO:+0100
TZNAME:CET
DTSTART:20251026T010000
END:STANDARD
BEGIN:DAYLIGHT
TZOFFSETFROM:+0100
TZOFFSETTO:+0200
TZNAME:CEST
DTSTART:20260329T010000
END:DAYLIGHT
BEGIN:STANDARD
TZOFFSETFROM:+0200
TZOFFSETTO:+0100
TZNAME:CET
DTSTART:20261025T010000
END:STANDARD
BEGIN:DAYLIGHT
TZOFFSETFROM:+0100
TZOFFSETTO:+0200
TZNAME:CEST
DTSTART:20270328T010000
END:DAYLIGHT
BEGIN:STANDARD
TZOFFSETFROM:+0200
TZOFFSETTO:+0100
TZNAME:CET
DTSTART:20271031T010000
END:STANDARD
END:VTIMEZONE
BEGIN:VEVENT
DTSTART;TZID=Europe/Paris:20260117T190000
DTEND;TZID=Europe/Paris:20260117T233000
DTSTAMP:20260422T073757
CREATED:20251202T104622Z
LAST-MODIFIED:20251202T132436Z
UID:7419-1768676400-1768692600@beynostbmxcotiere.fr
SUMMARY:LOTO d'Ain'Pulsion - 17 janvier 2026
DESCRIPTION:Le Loto 2026 d’Ain’Pulsion Côtière BMX est revenu\net il a lieu le samedi 17 janvier 2026 au Mas de Roux à Beynost\nVenez tenter votre chance : 7000€ de lots à gagner \nVenez manger et vous désaltérer et tout simplement venez passer un bon moment avec nous  \nouverture des portes : 19h et lancement des parties à 20h
URL:https://beynostbmxcotiere.fr/events/loto-dainpulsion/
LOCATION:Beynost\, Complexe du Mas de Roux\, BEYNOST\, 01700\, France
CATEGORIES:Evènement extra-sportif
END:VEVENT
END:VCALENDAR