BEGIN:VCALENDAR
VERSION:2.0
PRODID:-//AIN&#039;PULSION COTIERE BMX - ECPv6.15.11//NONSGML v1.0//EN
CALSCALE:GREGORIAN
METHOD:PUBLISH
X-WR-CALNAME:AIN&#039;PULSION COTIERE BMX
X-ORIGINAL-URL:https://beynostbmxcotiere.fr
X-WR-CALDESC:Évènements pour AIN&#039;PULSION COTIERE BMX
REFRESH-INTERVAL;VALUE=DURATION:PT1H
X-Robots-Tag:noindex
X-PUBLISHED-TTL:PT1H
BEGIN:VTIMEZONE
TZID:Europe/Paris
BEGIN:DAYLIGHT
TZOFFSETFROM:+0100
TZOFFSETTO:+0200
TZNAME:CEST
DTSTART:20250330T010000
END:DAYLIGHT
BEGIN:STANDARD
TZOFFSETFROM:+0200
TZOFFSETTO:+0100
TZNAME:CET
DTSTART:20251026T010000
END:STANDARD
BEGIN:DAYLIGHT
TZOFFSETFROM:+0100
TZOFFSETTO:+0200
TZNAME:CEST
DTSTART:20260329T010000
END:DAYLIGHT
BEGIN:STANDARD
TZOFFSETFROM:+0200
TZOFFSETTO:+0100
TZNAME:CET
DTSTART:20261025T010000
END:STANDARD
BEGIN:DAYLIGHT
TZOFFSETFROM:+0100
TZOFFSETTO:+0200
TZNAME:CEST
DTSTART:20270328T010000
END:DAYLIGHT
BEGIN:STANDARD
TZOFFSETFROM:+0200
TZOFFSETTO:+0100
TZNAME:CET
DTSTART:20271031T010000
END:STANDARD
END:VTIMEZONE
BEGIN:VEVENT
DTSTART;VALUE=DATE:20260424
DTEND;VALUE=DATE:20260427
DTSTAMP:20260422T040047
CREATED:20251015T164359Z
LAST-MODIFIED:20260128T215220Z
UID:7291-1776988800-1777247999@beynostbmxcotiere.fr
SUMMARY:Coupe d'Europe #3_Benatky nad Jizerou (Rep Tchèque)
DESCRIPTION:
URL:https://beynostbmxcotiere.fr/events/coupe-deurope-3_benatky-nad-jizerou-rep-tcheque/
LOCATION:BMX Benatky\, 294 71\, Benátky nad Jizerou\, Czech Republic
CATEGORIES:Course
END:VEVENT
BEGIN:VEVENT
DTSTART;VALUE=DATE:20260425
DTEND;VALUE=DATE:20260427
DTSTAMP:20260422T040047
CREATED:20251015T164950Z
LAST-MODIFIED:20260414T051158Z
UID:7294-1777075200-1777247999@beynostbmxcotiere.fr
SUMMARY:Trophée AURA_Saint Sorlin en Valloire
DESCRIPTION:Une course en solo ou par équipe ?? !!!!  \n			\n				\n				\n				\n				\n				\n			\n				\n				\n				\n				\n				La clôture des engagements est fixée au mardi 14 avril 2026\, 22h. \n			\n				\n				\n				\n				\n				\n			\n				\n				\n				\n				\n				Guide de la course : Guide de competition TROPHEES AURA 2026-St Sorlin En Valloire
URL:https://beynostbmxcotiere.fr/events/trophee-aura_saint-sorlin-en-valloire/
LOCATION:BMX St Sorlin en Valloire\, Complexe sportif Denis Brunet\, Saint Sorlin en Valloire\, 26210\, France
CATEGORIES:Course
END:VEVENT
END:VCALENDAR